BEGIN:VCALENDAR
VERSION:2.0
PRODID:-//ChamberMaster//Event Calendar 2.0//EN
METHOD:PUBLISH
X-PUBLISHED-TTL:P3D
REFRESH-INTERVAL:P3D
CALSCALE:GREGORIAN
BEGIN:VEVENT
DTSTART:20170914T150000Z
DTEND:20170914T153000Z
X-MICROSOFT-CDO-ALLDAYEVENT:FALSE
SUMMARY:Ribbon Cutting: Great Bend 2 Go
DESCRIPTION:The public is invited to attend a Ribbon Cutting for Great Bend 2 Go\, the newest My Town 2 Go location! We will welcome them to the community and the chamber.
X-ALT-DESC;FMTTYPE=text/html:The public is invited to attend a Ribbon Cutting for Great Bend 2 Go\, the newest My Town 2 Go location! We will welcome them to the community and the chamber.
LOCATION:Great Bend Chamber of Commerce 1125 Williams St. Great Bend\, KS
UID:e.2303.3366
SEQUENCE:3
DTSTAMP:20260422T143849Z
URL:https://members.greatbend.org/events/details/ribbon-cutting-great-bend-2-go-3366
END:VEVENT

END:VCALENDAR
