BEGIN:VCALENDAR
VERSION:2.0
PRODID:-//ChamberMaster//Event Calendar 2.0//EN
METHOD:PUBLISH
X-PUBLISHED-TTL:P3D
REFRESH-INTERVAL:P3D
CALSCALE:GREGORIAN
BEGIN:VEVENT
DTSTART:20180125T160000Z
DTEND:20180125T163000Z
X-MICROSOFT-CDO-ALLDAYEVENT:FALSE
SUMMARY:Ribbon Cutting: Have it Maid Cleaning Services
DESCRIPTION:Please join us for a Ribbon Cutting to celebrate the opening of new business and member\, Have it Maid Cleaning Services. The Ribbon Cutting will take place immediately following the Chamber Coffee\, also hosted by Have it Maid\, at the Chamber of Commerce.
X-ALT-DESC;FMTTYPE=text/html:Please join us for a Ribbon Cutting to celebrate the opening of new business and member\, Have it Maid Cleaning Services. The Ribbon Cutting will take place immediately following the Chamber Coffee\, also hosted by Have it Maid\, at the Chamber of Commerce.
LOCATION:Great Bend Chamber of Commerce 1125 Williams St. Great Bend\, KS
UID:e.2303.3602
SEQUENCE:3
DTSTAMP:20260422T101430Z
URL:https://members.greatbend.org/events/details/ribbon-cutting-have-it-maid-cleaning-services-3602
END:VEVENT

END:VCALENDAR
