BEGIN:VCALENDAR
VERSION:2.0
PRODID:-//ChamberMaster//Event Calendar 2.0//EN
METHOD:PUBLISH
X-PUBLISHED-TTL:P3D
REFRESH-INTERVAL:P3D
CALSCALE:GREGORIAN
BEGIN:VEVENT
DTSTART:20180817T173000Z
DTEND:20180817T180000Z
X-MICROSOFT-CDO-ALLDAYEVENT:FALSE
SUMMARY:Ribbon Cutting: Hearing Life
DESCRIPTION:Please join us to celebrate and welcome Hearing Life into Great Bend! Formerly EarCare of Great Bend and Precision Hearing\, Hearing Life has merged the two into one location at 1925 Main St.
X-ALT-DESC;FMTTYPE=text/html:Please join us to celebrate and welcome Hearing Life into Great Bend! Formerly EarCare of Great Bend and Precision Hearing\, Hearing Life has merged the two into one location at 1925 Main St.
LOCATION:1925 Main St. Great Bend
UID:e.2303.6093
SEQUENCE:3
DTSTAMP:20260420T082711Z
URL:https://members.greatbend.org/events/details/ribbon-cutting-hearing-life-6093
END:VEVENT

END:VCALENDAR
