BEGIN:VCALENDAR
VERSION:2.0
PRODID:-//ChamberMaster//Event Calendar 2.0//EN
METHOD:PUBLISH
X-PUBLISHED-TTL:P3D
REFRESH-INTERVAL:P3D
CALSCALE:GREGORIAN
BEGIN:VEVENT
DTSTART:20171012T150000Z
DTEND:20171012T153000Z
X-MICROSOFT-CDO-ALLDAYEVENT:FALSE
SUMMARY:Ribbon Cutting: Little Free Library
DESCRIPTION:Please join First Congregational United Church of Christ for a Ribbon Cutting to celebrate the construction and addition of the newest Little Free Library\, located at the entrance of the Great Bend Zoo.
X-ALT-DESC;FMTTYPE=text/html:Please join First Congregational United Church of Christ for a Ribbon Cutting to celebrate the construction and addition of the newest Little Free Library\, located at the entrance of the Great Bend Zoo.
LOCATION:Great Bend Zoo 2123 Main St.
UID:e.2303.3383
SEQUENCE:3
DTSTAMP:20260422T132808Z
URL:https://members.greatbend.org/events/details/ribbon-cutting-little-free-library-3383
END:VEVENT

END:VCALENDAR
