BEGIN:VCALENDAR
VERSION:2.0
PRODID:-//ChamberMaster//Event Calendar 2.0//EN
METHOD:PUBLISH
X-PUBLISHED-TTL:P3D
REFRESH-INTERVAL:P3D
CALSCALE:GREGORIAN
BEGIN:VEVENT
DTSTART:20171004T210000Z
DTEND:20171004T220000Z
X-MICROSOFT-CDO-ALLDAYEVENT:FALSE
SUMMARY:Ribbon Cutting: Mind Sculpt Games
DESCRIPTION:Please join us for a Ribbon Cutting to welcome Mind Sculpt Games on Thursday\, October 4th\, at 4pm\, 1401 Main Street.
X-ALT-DESC;FMTTYPE=text/html:Please join us for a Ribbon Cutting to welcome Mind Sculpt Games on Thursday\, October 4th\, at 4pm\, 1401 Main Street.
LOCATION:1401 Main St. Great Bend\, KS
UID:e.2303.3382
SEQUENCE:3
DTSTAMP:20260422T132808Z
URL:https://members.greatbend.org/events/details/ribbon-cutting-mind-sculpt-games-3382
END:VEVENT

END:VCALENDAR
