BEGIN:VCALENDAR
VERSION:2.0
PRODID:-//ChamberMaster//Event Calendar 2.0//EN
METHOD:PUBLISH
X-PUBLISHED-TTL:P3D
REFRESH-INTERVAL:P3D
CALSCALE:GREGORIAN
BEGIN:VEVENT
DTSTART:20240627T150000Z
DTEND:20240627T153000Z
X-MICROSOFT-CDO-ALLDAYEVENT:FALSE
SUMMARY:Ribbon Cutting: T & L Fireworks
DESCRIPTION:Please join the Great Bend Chamber of Commerce as they host a Ribbon Cutting for T & L Fireworks to celebrate 54 Years in Business!!! Ribbon Cutting will be held at their 5215 West 10th Street location in Great Bend!!!
X-ALT-DESC;FMTTYPE=text/html:<p><span data-sheets-userformat="{&quot\;2&quot\;:1063425\,&quot\;3&quot\;:{&quot\;1&quot\;:0}\,&quot\;12&quot\;:0\,&quot\;14&quot\;:{&quot\;1&quot\;:2\,&quot\;2&quot\;:328965}\,&quot\;15&quot\;:&quot\;Montserrat&quot\;\,&quot\;16&quot\;:10\,&quot\;23&quot\;:1}" data-sheets-value="{&quot\;1&quot\;:2\,&quot\;2&quot\;:&quot\;&#127849\; &#9749\;&#65039\; Please join us for our weekly Chamber Coffee\, this week is hosted by Encounter Church\, 601 Patton Rd in Great Bend. Doors open at 9 am. The program begins at 9:30 am. If you can't make it in person\, join us online! #Networking #JoinUs&quot\;}" style="font-size: 10pt\; font-family: Montserrat\, Arial\; color: rgb(5\, 5\, 5)\;">Please join the Great Bend Chamber of Commerce as they&nbsp\;host a Ribbon Cutting for T &amp\; L Fireworks to celebrate 54 Years in Business!!! Ribbon Cutting will be held at their&nbsp\;</span><span style="color: rgb(0\, 0\, 0)\; font-family: Roboto\, RobotoDraft\, Helvetica\, Arial\, sans-serif\; white-space: pre-wrap\;">5215 West 10th Street location </span><span data-sheets-userformat="{&quot\;2&quot\;:1063425\,&quot\;3&quot\;:{&quot\;1&quot\;:0}\,&quot\;12&quot\;:0\,&quot\;14&quot\;:{&quot\;1&quot\;:2\,&quot\;2&quot\;:328965}\,&quot\;15&quot\;:&quot\;Montserrat&quot\;\,&quot\;16&quot\;:10\,&quot\;23&quot\;:1}" data-sheets-value="{&quot\;1&quot\;:2\,&quot\;2&quot\;:&quot\;&#127849\; &#9749\;&#65039\; Please join us for our weekly Chamber Coffee\, this week is hosted by Encounter Church\, 601 Patton Rd in Great Bend. Doors open at 9 am. The program begins at 9:30 am. If you can't make it in person\, join us online! #Networking #JoinUs&quot\;}" style="font-size: 10pt\; font-family: Montserrat\, Arial\; color: rgb(5\, 5\, 5)\;">in Great Bend!!!&nbsp\;</span><br />\n&nbsp\;</p>\n
LOCATION:T & L Fireworks 5215 West 10th Great Bend\, KS 67530
UID:e.2303.13643
SEQUENCE:3
DTSTAMP:20260425T190653Z
URL:https://members.greatbend.org/events/details/ribbon-cutting-t-l-fireworks-06-27-2024-13643
END:VEVENT

END:VCALENDAR
