BEGIN:VCALENDAR
VERSION:2.0
PRODID:-//ChamberMaster//Event Calendar 2.0//EN
METHOD:PUBLISH
X-PUBLISHED-TTL:P3D
REFRESH-INTERVAL:P3D
CALSCALE:GREGORIAN
BEGIN:VEVENT
DTSTART:20240425T150000Z
DTEND:20240425T153000Z
X-MICROSOFT-CDO-ALLDAYEVENT:FALSE
SUMMARY:Ribbon Cutting - The Handlebar & Grill\, LLC
DESCRIPTION:Join us for a Ribbon Cutting at the Handlebar & Grill to celebrate new ownership!
X-ALT-DESC;FMTTYPE=text/html:Join us for a Ribbon Cutting at the Handlebar &amp\; Grill to celebrate new ownership!&nbsp\;
LOCATION:
UID:e.2303.13541
SEQUENCE:3
DTSTAMP:20260425T202901Z
URL:https://members.greatbend.org/events/details/ribbon-cutting-the-handlebar-grill-llc-13541
END:VEVENT

END:VCALENDAR
