BEGIN:VCALENDAR
VERSION:2.0
PRODID:-//ChamberMaster//Event Calendar 2.0//EN
METHOD:PUBLISH
X-PUBLISHED-TTL:P3D
REFRESH-INTERVAL:P3D
CALSCALE:GREGORIAN
BEGIN:VEVENT
DTSTART:20230322T150000Z
DTEND:20230322T151500Z
X-MICROSOFT-CDO-ALLDAYEVENT:FALSE
SUMMARY:Ribbon Cutting: Xpress Wellness
DESCRIPTION:Xpress Wellness is thrilled to host a ribbon-cutting event to celebrate the new mural in their pediatric room. The mural\, created by a local artist\, features colorful and playful designs that will bring joy to the children who visit Xpress Wellness for medical care. The ribbon-cutting event will be an exciting opportunity for members of the community to see the new addition to Xpress Wellness and to network with other business leaders. Xpress Wellness is proud to provide quality medical care for the people of Great Bend and to create a warm and welcoming environment for their youngest patients.
X-ALT-DESC;FMTTYPE=text/html:<span style="color: rgb(5\, 5\, 5)\; font-family: &quot\;Segoe UI Historic&quot\;\, &quot\;Segoe UI&quot\;\, Helvetica\, Arial\, sans-serif\; font-size: 15px\;">Xpress Wellness is thrilled to host a ribbon-cutting event to celebrate the new mural in their pediatric room. The mural\, created by a local artist\, features colorful and playful designs that will bring joy to the children who visit Xpress Wellness for medical care. The ribbon-cutting event will be an exciting opportunity for members of the community to see the new addition to Xpress Wellness and to network with other business leaders. Xpress Wellness is proud to provide quality medical care for the people of Great Bend and to create a warm and welcoming environment for their youngest patients.</span>
LOCATION:3800 10th St.
UID:e.2303.11762
SEQUENCE:3
DTSTAMP:20260424T185034Z
URL:https://members.greatbend.org/events/details/ribbon-cutting-xpress-wellness-11762
END:VEVENT

END:VCALENDAR
