BEGIN:VCALENDAR
VERSION:2.0
PRODID:-//ChamberMaster//Event Calendar 2.0//EN
METHOD:PUBLISH
X-PUBLISHED-TTL:P3D
REFRESH-INTERVAL:P3D
CALSCALE:GREGORIAN
BEGIN:VEVENT
DTSTART:20170810T150000Z
DTEND:20170810T153000Z
X-MICROSOFT-CDO-ALLDAYEVENT:FALSE
SUMMARY:Ribbon Cutting: Yoga Central
DESCRIPTION:Please join us for a ribbon cutting celebrating Yoga Central @ 10am at their studio located at 6009 10th Street\, Great Bend\, KS 67530
X-ALT-DESC;FMTTYPE=text/html:Please join us for a ribbon cutting celebrating Yoga Central @ 10am&nbsp\;at their studio located at 6009 10th Street\, Great Bend\, KS 67530
LOCATION:6009 10th Street\, Great Bend\, KS 67530
UID:e.2303.3050
SEQUENCE:3
DTSTAMP:20260422T155614Z
URL:https://members.greatbend.org/events/details/ribbon-cutting-yoga-central-3050
END:VEVENT

END:VCALENDAR
