BEGIN:VCALENDAR
VERSION:2.0
PRODID:-//ChamberMaster//Event Calendar 2.0//EN
METHOD:PUBLISH
X-PUBLISHED-TTL:P3D
REFRESH-INTERVAL:P3D
CALSCALE:GREGORIAN
BEGIN:VEVENT
DTSTART:20171007T150000Z
DTEND:20171007T220000Z
X-MICROSOFT-CDO-ALLDAYEVENT:FALSE
SUMMARY:Rosewood Rodeo
DESCRIPTION:Family Fun No Admittance Fee Kids Games and Activities\, including Face Painting Horse Drawn Wagon Rides Heartland Twisters Drill Team Performances Tack Shop with Novelties and Rosewood Client-Made Items Silent Auction Concessions Three Rodeo Events by Rosewood Services Adult Riders One Rodeo Event by Rosewood Services Children Riders Staff Races Award Ceremony for Rodeo Participants\n\nSmall Fee\, Great Eats\n\n? Celebration BBQ Dinner\n\n(Clients/volunteers eat free\, $5 at the door for everyone else)
X-ALT-DESC;FMTTYPE=text/html:<span style="color: rgb(13\, 6\, 0)\; font-family: Georgia\; font-size: 13.3333px\;">Family Fun No Admittance Fee Kids Games and Activities\, including Face Painting Horse Drawn Wagon Rides Heartland Twisters Drill Team Performances Tack Shop with Novelties and Rosewood Client-Made Items Silent Auction Concessions Three Rodeo Events by Rosewood Services Adult Riders One Rodeo Event by Rosewood Services Children Riders Staff Races Award Ceremony for Rodeo Participants</span><br style="color: rgb(13\, 6\, 0)\; font-family: Georgia\; font-size: 13.3333px\;" />\n<span style="color: rgb(13\, 6\, 0)\; font-family: Georgia\; font-size: 13.3333px\;">Small Fee\, Great Eats</span><br style="color: rgb(13\, 6\, 0)\; font-family: Georgia\; font-size: 13.3333px\;" />\n<span style="color: rgb(13\, 6\, 0)\; font-family: Georgia\; font-size: 13.3333px\;">? Celebration BBQ Dinner</span><br style="color: rgb(13\, 6\, 0)\; font-family: Georgia\; font-size: 13.3333px\;" />\n<span style="color: rgb(13\, 6\, 0)\; font-family: Georgia\; font-size: 13.3333px\;">(Clients/volunteers eat free\, $5 at the door for everyone else)</span>
LOCATION:Great Bend Expo III Arena
UID:e.2303.3040
SEQUENCE:3
DTSTAMP:20260422T132004Z
URL:https://members.greatbend.org/events/details/rosewood-rodeo-3040
END:VEVENT

END:VCALENDAR
