BEGIN:VCALENDAR
VERSION:2.0
PRODID:-//ChamberMaster//Event Calendar 2.0//EN
METHOD:PUBLISH
X-PUBLISHED-TTL:P3D
REFRESH-INTERVAL:P3D
CALSCALE:GREGORIAN
BEGIN:VEVENT
DTSTART:20170424T230000Z
DTEND:20170425T020000Z
X-MICROSOFT-CDO-ALLDAYEVENT:FALSE
SUMMARY:Saint Francis Community Services
DESCRIPTION:TIPS-MAPP classes for Foster/Adoptive Parents
X-ALT-DESC;FMTTYPE=text/html:<span style="color: rgb(13\, 6\, 0)\; font-family: Georgia\; font-size: 13.3333px\;">TIPS-MAPP classes for Foster/Adoptive Parents</span>
LOCATION:Saint Mark's Lutheran Church 2101 Jackson Street Great Bend\, Ks 67530
UID:e.2303.1217
SEQUENCE:3
DTSTAMP:20260422T220701Z
URL:https://members.greatbend.org/events/details/saint-francis-community-services-1217
END:VEVENT

END:VCALENDAR
