BEGIN:VCALENDAR
VERSION:2.0
PRODID:-//ChamberMaster//Event Calendar 2.0//EN
METHOD:PUBLISH
X-PUBLISHED-TTL:P3D
REFRESH-INTERVAL:P3D
CALSCALE:GREGORIAN
BEGIN:VEVENT
DTSTART:20180109T000000Z
DTEND:20180109T030000Z
X-MICROSOFT-CDO-ALLDAYEVENT:FALSE
SUMMARY:Saint Francis TIPS-MAPP Classes
DESCRIPTION:Saint Francis will be hosting TIPS-MAPP (TRAUMA INFORMED PARTNERING FOR SAFETY AND PERMANENCE - MODEL APPROACH TO PARTNERSHIPS IN PARENTING) Classes beginning January 8th at Saint Mark's Lutheran Church 2101 Jackson Street in Great Bend. Any families that are interested can contact Marla Baumann at 785-476-8501 TIPS-MAPP is a model program that utilizes 15 tools designed to help prospective adoptive/foster parents understand the difference between the desire to help and making the commitment to bring children into their home. Leader's use the tools to help inform participants about the child welfare system and the role of foster parents\, develop the necessary skills to become a successful foster/adoptive parent and assess families to determine if they are a positive fit for the role of a foster parent and for their agency.
X-ALT-DESC;FMTTYPE=text/html:Saint Francis will be hosting TIPS-MAPP (TRAUMA INFORMED PARTNERING FOR SAFETY AND PERMANENCE - MODEL APPROACH TO PARTNERSHIPS IN PARENTING) Classes beginning January 8th at Saint Mark&rsquo\;s Lutheran Church 2101 Jackson Street in Great Bend. Any families that are interested can contact Marla Baumann at 785-476-8501 TIPS-MAPP is a model program that utilizes 15 tools designed to help prospective adoptive/foster parents understand the difference between the desire to help and making the commitment to bring children into their home. Leader&#39\;s use the tools to help inform participants about the child welfare system and the role of foster parents\, develop the necessary skills to become a successful foster/adoptive parent and assess families to determine if they are a positive fit for the role of a foster parent and for their agency.
LOCATION:Saint Mark's Lutheran Church 2101 Jackson St Great Bend\, KS
UID:e.2303.3567
SEQUENCE:3
DTSTAMP:20260420T082217Z
URL:https://members.greatbend.org/events/details/saint-francis-tips-mapp-classes-3567
END:VEVENT

END:VCALENDAR
