BEGIN:VCALENDAR
VERSION:2.0
PRODID:-//ChamberMaster//Event Calendar 2.0//EN
METHOD:PUBLISH
X-PUBLISHED-TTL:P3D
REFRESH-INTERVAL:P3D
CALSCALE:GREGORIAN
BEGIN:VEVENT
DTSTART:20260424T233000Z
DTEND:20260425T200000Z
X-MICROSOFT-CDO-ALLDAYEVENT:FALSE
SUMMARY:Saintly Stories and Flavors
DESCRIPTION:?? A Taste of Heaven: Saintly Stories and Flavors ?? Step back in time and savor the flavors of the saints! We are hosting a special culinary event where history meets the dinner plate. On the Menu: ? Friday Night Kickoff: Panforte Di Siena (St. Catherine of Siena) ?? The Saturday Feast:   St. Hildegard's Salad & St. Anselm's Scones   St. Francis' Umbrian Chicken & Sausage   St. Brigid's Colcannon & St. Joseph's Tomatoes   St. Dominic's Orange Flan ?? Come for the food\, stay for the stories\, and leave with a full heart! Registration Deadline April 15\, 2026
X-ALT-DESC;FMTTYPE=text/html:?? A Taste of Heaven: Saintly Stories and Flavors ?? Step back in time and savor the flavors of the saints! We are hosting a special culinary event where history meets the dinner plate. On the Menu: ? Friday Night Kickoff: Panforte Di Siena (St. Catherine of Siena) ?? The Saturday Feast: &bull\; St. Hildegard&rsquo\;s Salad &amp\; St. Anselm&rsquo\;s Scones &bull\; St. Francis&rsquo\; Umbrian Chicken &amp\; Sausage &bull\; St. Brigid&rsquo\;s Colcannon &amp\; St. Joseph&rsquo\;s Tomatoes &bull\; St. Dominic&rsquo\;s Orange Flan ?? Come for the food\, stay for the stories\, and leave with a full heart! Registration Deadline April 15\, 2026
LOCATION:3600 Broadway\, Great Bend\, Ks
UID:e.2303.18053
SEQUENCE:3
DTSTAMP:20260421T134704Z
URL:https://members.greatbend.org/events/details/saintly-stories-and-flavors-18053
END:VEVENT

END:VCALENDAR
