BEGIN:VCALENDAR
VERSION:2.0
PRODID:-//ChamberMaster//Event Calendar 2.0//EN
METHOD:PUBLISH
X-PUBLISHED-TTL:P3D
REFRESH-INTERVAL:P3D
CALSCALE:GREGORIAN
BEGIN:VEVENT
DTSTART:20170810T190000Z
DTEND:20170810T210000Z
X-MICROSOFT-CDO-ALLDAYEVENT:FALSE
SUMMARY:Senator Jerry Moran Town Hall Meeting
DESCRIPTION:Senator Jerry Moran will host a public town hall meeting this Thursday\, August 10th at 2pm at the American Ag Credit Meeting Room\, 5634 10th St\, Great Bend\, KS 67530.
X-ALT-DESC;FMTTYPE=text/html:<span style="color: rgb(13\, 6\, 0)\; font-family: Georgia\; font-size: 13.3333px\;">Senator Jerry Moran will host a public town hall meeting this Thursday\, August 10th at 2pm at the American Ag Credit Meeting Room\, 5634 10th St\, Great Bend\, KS 67530.</span>
LOCATION:American Ag Credit Meeting Room 5634 10th St Great Bend\, KS 67530
UID:e.2303.3331
SEQUENCE:3
DTSTAMP:20260422T155650Z
URL:https://members.greatbend.org/events/details/senator-jerry-moran-town-hall-meeting-3331
END:VEVENT

END:VCALENDAR
