BEGIN:VCALENDAR
VERSION:2.0
PRODID:-//ChamberMaster//Event Calendar 2.0//EN
METHOD:PUBLISH
X-PUBLISHED-TTL:P3D
REFRESH-INTERVAL:P3D
CALSCALE:GREGORIAN
BEGIN:VEVENT
DTSTART:20170421T230000Z
DTEND:20170422T010000Z
X-MICROSOFT-CDO-ALLDAYEVENT:FALSE
SUMMARY:Shafer Gallery: Barton Student Exhibit\, Reception and Awards Ceremony
DESCRIPTION:Barton Community College students display their latest creations in this exhibit. \n\n\n\nOn display April 13-May 12\n\n\n\nAwards will be given to the students whose work stands out from the crowd.
X-ALT-DESC;FMTTYPE=text/html:<span style="color: rgb(13\, 6\, 0)\; font-family: Georgia\; font-size: 13.3333px\;">Barton Community College students display their latest creations in this exhibit.&nbsp\;</span><br style="color: rgb(13\, 6\, 0)\; font-family: Georgia\; font-size: 13.3333px\;" />\n<br style="color: rgb(13\, 6\, 0)\; font-family: Georgia\; font-size: 13.3333px\;" />\n<span style="color: rgb(13\, 6\, 0)\; font-family: Georgia\; font-size: 13.3333px\;">On display April 13-May 12</span><br style="color: rgb(13\, 6\, 0)\; font-family: Georgia\; font-size: 13.3333px\;" />\n<br style="color: rgb(13\, 6\, 0)\; font-family: Georgia\; font-size: 13.3333px\;" />\n<span style="color: rgb(13\, 6\, 0)\; font-family: Georgia\; font-size: 13.3333px\;">Awards will be given to the students whose work stands out from the crowd.</span>
LOCATION:Shafer Art Gallery BCC Campus 245 NE 30 Rd\, Great Bend
UID:e.2303.1007
SEQUENCE:3
DTSTAMP:20260422T222124Z
URL:https://members.greatbend.org/events/details/shafer-gallery-barton-student-exhibit-reception-and-awards-ceremony-1007
END:VEVENT

END:VCALENDAR
