BEGIN:VCALENDAR
VERSION:2.0
PRODID:-//ChamberMaster//Event Calendar 2.0//EN
METHOD:PUBLISH
X-PUBLISHED-TTL:P3D
REFRESH-INTERVAL:P3D
CALSCALE:GREGORIAN
BEGIN:VEVENT
DTSTART:20170525T150000Z
DTEND:20170714T220000Z
X-MICROSOFT-CDO-ALLDAYEVENT:FALSE
SUMMARY:Shafer Gallery: Mages Magical Marine Marvels
DESCRIPTION:A fish themed fun and whimsical exhibit of artwork by James Mages. Featuring astounding sculpture and vibrant prints\, Mages fish will delight audiences of all ages.\n\nClosed on Sundays
X-ALT-DESC;FMTTYPE=text/html:<span style="color: rgb(13\, 6\, 0)\; font-family: Georgia\; font-size: 13.3333px\;">A fish themed fun and whimsical exhibit of artwork by James Mages. Featuring astounding sculpture and vibrant prints\, Mages fish will delight audiences of all ages.<br />\nClosed on Sundays</span>
LOCATION:Shafer Art Gallery 245 Ne 30 Rd Great Bend\, KS
UID:e.2303.1803
SEQUENCE:3
DTSTAMP:20260422T171708Z
URL:https://members.greatbend.org/events/details/shafer-gallery-mages-magical-marine-marvels-1803
END:VEVENT

END:VCALENDAR
