BEGIN:VCALENDAR
VERSION:2.0
PRODID:-//ChamberMaster//Event Calendar 2.0//EN
METHOD:PUBLISH
X-PUBLISHED-TTL:P3D
REFRESH-INTERVAL:P3D
CALSCALE:GREGORIAN
BEGIN:VEVENT
DTSTART:20171005T170000Z
DTEND:20171005T180000Z
X-MICROSOFT-CDO-ALLDAYEVENT:FALSE
SUMMARY:Shafer Gallery Talk Series: It's All About the Isms
DESCRIPTION:The Shafer Gallery will be hosting a Brown Bag Art Talks series titled "It's All About the Isms". Gallery Director Dave Barnes will be discussing the movements and origins of Modern Art. This is a bring-your-own-lunch event.
X-ALT-DESC;FMTTYPE=text/html:The Shafer Gallery will be hosting a Brown Bag Art Talks series titled &ldquo\;It&rsquo\;s All About the Isms&rdquo\;. Gallery Director Dave Barnes will be discussing the movements and origins of Modern Art. This is a bring-your-own-lunch event.
LOCATION:Shafer Art Gallery Barton Community College
UID:e.2303.3402
SEQUENCE:3
DTSTAMP:20260422T133039Z
URL:https://members.greatbend.org/events/details/shafer-gallery-talk-series-it-s-all-about-the-isms-3402
END:VEVENT

END:VCALENDAR
