BEGIN:VCALENDAR
VERSION:2.0
PRODID:-//ChamberMaster//Event Calendar 2.0//EN
METHOD:PUBLISH
X-PUBLISHED-TTL:P3D
REFRESH-INTERVAL:P3D
CALSCALE:GREGORIAN
BEGIN:VEVENT
DTSTART:20220607T133000Z
DTEND:20220608T023000Z
X-MICROSOFT-CDO-ALLDAYEVENT:FALSE
SUMMARY:Shop Talk in 60 - Open Agenda Roundtable
DESCRIPTION:Shop Talk in 60\n\nJune 7th at 8:30 a.m.\n\nGreat Bend Chamber of Commerce\n\n1125 Williams St.\n\n\n\nFree for Members\n\n\n\nGrab a cup of coffee and join us for 60-minutes of idea sharing\, problem solving\, and just listening to your peers in the business community. This open-agenda format will be casual and allow for you to learn from others while sharing what's working for you in your business. What keeps you up at night? Chances are that your neighbor is probably struggling with the same thing. We are bringing you together to help one another and support your fellow members.\n\n\n\nWho should attend? Business owners\, Supervisors\, Managers\, Entrepreneurs\, and just anyone looking to learn from others or share their experiences.\n\n\n\nRegistered participants are entered to win a door prize! Refer a friend for the roundtable and You and Your friend get TWO entries in for the door prize!
X-ALT-DESC;FMTTYPE=text/html:<strong>Shop Talk in 60</strong><br />\nJune 7th at 8:30 a.m.<br />\nGreat Bend Chamber of Commerce<br />\n1125 Williams St.<br />\n<br />\nFree for Members<br />\n<br />\nGrab a cup of coffee and join us for 60-minutes of idea sharing\, problem solving\, and just listening to your peers in the business community. This open-agenda format will be casual and allow for you to learn from others while sharing what&rsquo\;s working for you in your business. What keeps you up at night? Chances are that your neighbor is probably struggling with the same thing. We are bringing you together to help one another and support your fellow members.<br />\n<br />\nWho should attend? Business owners\, Supervisors\, Managers\, Entrepreneurs\, and just anyone looking to learn from others or share their experiences.<br />\n<br />\nRegistered participants are entered to win a door prize! Refer a friend for the roundtable and You and Your friend get TWO entries in for the door prize!
LOCATION:June 7th at 8:30 a.m. Great Bend Chamber of Commerce 1125 Williams St.
UID:e.2303.9636
SEQUENCE:3
DTSTAMP:20260423T020931Z
URL:https://members.greatbend.org/events/details/shop-talk-in-60-open-agenda-roundtable-9636
END:VEVENT

END:VCALENDAR
