BEGIN:VCALENDAR
VERSION:2.0
PRODID:-//ChamberMaster//Event Calendar 2.0//EN
METHOD:PUBLISH
X-PUBLISHED-TTL:P3D
REFRESH-INTERVAL:P3D
CALSCALE:GREGORIAN
BEGIN:VEVENT
DTSTART;VALUE=DATE:20171015
DTEND;VALUE=DATE:20171030
TRANSP:TRANSPARENT
X-MICROSOFT-CDO-ALLDAYEVENT:TRUE
SUMMARY:Skip it to Give it
DESCRIPTION:Simply stated\, "Skip it to Give it" calls on people to skip an indulgence for two weeks in October and to give that money to help the people in Haiti. Imagine thinking about others before buying that extra coffee\, donut\, or movie popcorn and taking those few dollars and giving them to help the needy in Haiti! You could be a part of providing them with clean water\, food\, medicines\, goats\, and the opportunity to go to school.
X-ALT-DESC;FMTTYPE=text/html:Simply stated\, &quot\;Skip it to Give it&quot\; calls on people to skip an indulgence for two weeks in October and to give that money to help the people in Haiti. Imagine thinking about others before buying that extra coffee\, donut\, or movie popcorn and taking those few dollars and giving them to help the needy in Haiti! You could be a part of providing them with clean water\, food\, medicines\, goats\, and the opportunity to go to school.
LOCATION:This project could be implemented into any group setting like a club\, church\, or team. We currently have several churches\, schools\, and businesses in Great Bend participating.
UID:e.2303.3387
SEQUENCE:3
DTSTAMP:20260422T131813Z
URL:https://members.greatbend.org/events/details/skip-it-to-give-it-3387
END:VEVENT

END:VCALENDAR
