BEGIN:VCALENDAR
VERSION:2.0
PRODID:-//ChamberMaster//Event Calendar 2.0//EN
METHOD:PUBLISH
X-PUBLISHED-TTL:P3D
REFRESH-INTERVAL:P3D
CALSCALE:GREGORIAN
BEGIN:VEVENT
DTSTART:20200209T170000Z
DTEND:20200209T200000Z
X-MICROSOFT-CDO-ALLDAYEVENT:FALSE
SUMMARY:Sloppy Joe Meal Fundraiser
DESCRIPTION:GBHS Panther Bowling Parents Sloppy Joe Meal Fundraiser Dine in or Carry Out Available Menu: Sloppy Joe\, Chips\, Pickle\, Dessert\, Tea/Water Drawing/Raffle for Gift Baskets *Proceeds will provide team jerseys\, team meals when traveling\, Senior recognition gifts\, and end of the year banquet for bowlers!
X-ALT-DESC;FMTTYPE=text/html:GBHS Panther Bowling Parents Sloppy Joe Meal Fundraiser Dine in or Carry Out Available Menu: Sloppy Joe\, Chips\, Pickle\, Dessert\, Tea/Water Drawing/Raffle for Gift Baskets *Proceeds will provide team jerseys\, team meals when traveling\, Senior recognition gifts\, and end of the year banquet for bowlers!
LOCATION:Walnut Bowl
UID:e.2303.7661
SEQUENCE:3
DTSTAMP:20260419T224854Z
URL:https://members.greatbend.org/events/details/sloppy-joe-meal-fundraiser-7661
END:VEVENT

END:VCALENDAR
