BEGIN:VCALENDAR
VERSION:2.0
PRODID:-//ChamberMaster//Event Calendar 2.0//EN
METHOD:PUBLISH
X-PUBLISHED-TTL:P3D
REFRESH-INTERVAL:P3D
CALSCALE:GREGORIAN
BEGIN:VEVENT
DTSTART:20171014T140000Z
DTEND:20171014T180000Z
X-MICROSOFT-CDO-ALLDAYEVENT:FALSE
SUMMARY:Smoky Hills Public TV Family Fun Day w/ Clifford the Big Red Dog
DESCRIPTION:The Smoky Hills Public Television Family Fun Day event will be held Saturday\, October 14th from 9am-1pm.\n\nLast year's event was a great weekend of fund and excitement. Curious George was on hand at the Great Bend Brit Spaugh Zoo to meet the kids and Randy's Music Jam played songs that got the kids dancing and jamming to the music. Children also got a chance to get their vision checked by the Great Bend Lions Club. The attendance was phonemonal with over 1\,700 people taking in the event. \n\n\n\nWe will be returning to the zoo again this year on October 14th from 9:00 a.m.-1:00 p.m. Clifford the Big Red Dog will be on hand to greet children and pose for pictures. Who knows maybe Clifford will grow even bigger with all the hugs he receives from the kids!  We will again be handing out to the first 500 children a goodie bag that includes a book and prizes. The book giveaway coincides with Smoky Hills Public TV's literacy initiative to supply children in our coverage area with a book.\n\n\n\nThe purpose of the event is for a fun family educational environment. The event is free and open to the public.\n\n\n\nSmoky Hills Public TV is striving to help educate our children in a rural area for a better future.
X-ALT-DESC;FMTTYPE=text/html:<span style="font-size:medium\;"><span style="font-family:cambria\;"><span style="font-family:cambria\,serif\;"><span style="font-size:12.0pt\;">The Smoky Hills Public Television Family Fun Day event will be held Saturday\, October 14th from 9am-1pm.<br />\nLast year&rsquo\;s event was a great weekend of fund and excitement. Curious George was on hand at the Great Bend Brit Spaugh Zoo to meet the kids and Randy&rsquo\;s Music Jam played songs that got the kids dancing and jamming to the music. Children also got a chance to get their vision checked by the Great Bend Lions Club. The attendance was phonemonal with over 1\,700 people taking in the event. </span></span></span></span><br />\n<br />\n<span style="font-size:medium\;"><span style="font-family:cambria\;"><span style="font-family:cambria\,serif\;"><span style="font-size:12.0pt\;">We will be returning to the zoo again this year on October 14<sup>th</sup> from 9:00 a.m.-1:00 p.m. Clifford the Big Red Dog will be on hand to greet children and pose for pictures. Who knows maybe Clifford will grow even bigger with all the hugs he receives from the kids!&nbsp\; We will again be handing out to the first 500 children a goodie bag that includes a book and prizes. The book giveaway coincides with Smoky Hills Public TV&rsquo\;s literacy initiative to supply children in our coverage area with a book.<br />\n<br />\nThe purpose of the event is for a fun family educational environment. The event is free and open to the public.</span></span></span></span><br />\n<br />\n<span style="font-size:medium\;"><span style="font-family:cambria\;"><span style="font-family:cambria\,serif\;"><span style="font-size:12.0pt\;">Smoky Hills Public TV is striving to help educate our children in a rural area for a better future.</span></span></span></span>
LOCATION:Great Bend Brit Spaugh Zoo 2123 Main Great Bend\, KS 67530
UID:e.2303.3338
SEQUENCE:3
DTSTAMP:20260422T120347Z
URL:https://members.greatbend.org/events/details/smoky-hills-public-tv-family-fun-day-w-clifford-the-big-red-dog-3338
END:VEVENT

END:VCALENDAR
