BEGIN:VCALENDAR
VERSION:2.0
PRODID:-//ChamberMaster//Event Calendar 2.0//EN
METHOD:PUBLISH
X-PUBLISHED-TTL:P3D
REFRESH-INTERVAL:P3D
CALSCALE:GREGORIAN
BEGIN:VEVENT
DTSTART:20200224T190000Z
DTEND:20200224T220000Z
X-MICROSOFT-CDO-ALLDAYEVENT:FALSE
SUMMARY:Snow Day Crafts
DESCRIPTION:No School Day\, Monday\, Feb. 24th\, 1-4pm $25.00 ea. For Kdgn. & up. @ Dilly & Doc Come and join us for lots of wintry fun! We will make snow\, snowflakes\, snow globes and this cute soft fleece snowman. The pieces are already cut so it is just a matter of gluing them into place and making your own cute face on this triangle plastic tube that you can fill with treats and give to someone if you wish! I will have everything you will need to complete the project. Just bring yourselves and a drink if you would like. See you then! Please click on the link below to register to save your spot and so I can have enough supplies: https://squareup.com/store/dilly-doc/item/mommy-me-snowman-class
X-ALT-DESC;FMTTYPE=text/html:No School Day\, Monday\, Feb. 24th\, 1-4pm $25.00 ea. For Kdgn. &amp\; up. @ Dilly &amp\; Doc Come and join us for lots of wintry fun! We will make snow\, snowflakes\, snow globes and this cute soft fleece snowman. The pieces are already cut so it is just a matter of gluing them into place and making your own cute face on this triangle plastic tube that you can fill with treats and give to someone if you wish! I will have everything you will need to complete the project. Just bring yourselves and a drink if you would like. See you then! Please click on the link below to register to save your spot and so I can have enough supplies: https://squareup.com/store/dilly-doc/item/mommy-me-snowman-class
LOCATION:1119 Main St.
UID:e.2303.7703
SEQUENCE:3
DTSTAMP:20260419T224454Z
URL:https://members.greatbend.org/events/details/snow-day-crafts-7703
END:VEVENT

END:VCALENDAR
