BEGIN:VCALENDAR
VERSION:2.0
PRODID:-//ChamberMaster//Event Calendar 2.0//EN
METHOD:PUBLISH
X-PUBLISHED-TTL:P3D
REFRESH-INTERVAL:P3D
CALSCALE:GREGORIAN
BEGIN:VEVENT
DTSTART:20170821T153000Z
DTEND:20170821T183000Z
X-MICROSOFT-CDO-ALLDAYEVENT:FALSE
SUMMARY:Solar Eclipse Party @ KWEC
DESCRIPTION:On August 21st\, 2017\, a total solar eclipse will cross the continental United Sates from Salem\, Oregon to Charleston\, South Carolina. The last time a total eclipse crossed the United States from sea to sea was June 8\, 1918. The 2017 eclipse in either total or partial phase can be seen by over 500 million people in North and South America\, Europe\, and Africa.\n\nIn celebration of the total solar eclipse the Kansas Wetlands Education Center is throwing an Eclipse Party! We'll be able to experience a 90% totality viewing of the eclipse - it will be an impressive sight! It is also truly an historic event and a wonderful opportunity to view one of nature's most stunning displays. \n\nJoin us at the Kansas Wetlands Education Center on Monday\, August 21st from 10:30 am to 1:30 pm for a fun family celebration! Enjoy a hot dog lunch\, s'mores and marshmallow roasting\, eclipse viewing with safety glasses provided by the KWEC\, and giant yard games provided by Explore Great Bend! For more information about this FREE family event\, call us at 1-877-243-9268.
X-ALT-DESC;FMTTYPE=text/html:<span style="color: rgb(13\, 6\, 0)\; font-family: Georgia\; font-size: 13.3333px\;">On August 21st\, 2017\, a total solar eclipse will cross the continental United Sates from Salem\, Oregon to Charleston\, South Carolina. The last time a total eclipse crossed the United States from sea to sea was June 8\, 1918. The 2017 eclipse in either total or partial phase can be seen by over 500 million people in North and South America\, Europe\, and Africa.</span><br style="color: rgb(13\, 6\, 0)\; font-family: Georgia\; font-size: 13.3333px\;" />\n<span style="color: rgb(13\, 6\, 0)\; font-family: Georgia\; font-size: 13.3333px\;">In celebration of the total solar eclipse the Kansas Wetlands Education Center is throwing an Eclipse Party! We&#39\;ll be able to experience a 90% totality viewing of the eclipse - it will be an impressive sight! It is also truly an historic event and a wonderful opportunity to view one of nature&#39\;s most stunning displays.&nbsp\;</span><br style="color: rgb(13\, 6\, 0)\; font-family: Georgia\; font-size: 13.3333px\;" />\n<span style="color: rgb(13\, 6\, 0)\; font-family: Georgia\; font-size: 13.3333px\;">Join us at the Kansas Wetlands Education Center on Monday\, August 21st from 10:30 am to 1:30 pm for a fun family celebration! Enjoy a hot dog lunch\, s&#39\;mores and marshmallow roasting\, eclipse viewing with safety glasses provided by the KWEC\, and giant yard games provided by Explore Great Bend! For more information about this FREE family event\, call us at 1-877-243-9268.</span>
LOCATION:Kansas Wetlands Education Center 592 NE K-156 Hwy Great Bend\, KS 67530
UID:e.2303.2997
SEQUENCE:3
DTSTAMP:20260422T155150Z
URL:https://members.greatbend.org/events/details/solar-eclipse-party-kwec-2997
END:VEVENT

END:VCALENDAR
