BEGIN:VCALENDAR
VERSION:2.0
PRODID:-//ChamberMaster//Event Calendar 2.0//EN
METHOD:PUBLISH
X-PUBLISHED-TTL:P3D
REFRESH-INTERVAL:P3D
CALSCALE:GREGORIAN
BEGIN:VEVENT
DTSTART:20220710T230000Z
DTEND:20220711T010000Z
X-MICROSOFT-CDO-ALLDAYEVENT:FALSE
SUMMARY:Special Summer Pool Party
DESCRIPTION:Special Summer Pool Party\n\nChildren with special needs/medical issues and their families are invited for a night of swimming\, music\, and fun! \n\nDrinks & Snacks provided\n\nSPONSORED BY:\n\nCaregivers Count\n\nWichita Littlest Heros\n\nUpside of Down Syndrome Group
X-ALT-DESC;FMTTYPE=text/html:Special Summer Pool Party<br />\nChildren with special needs/medical issues and their families are invited for a night of swimming\, music\, and fun!&nbsp\;<br />\nDrinks &amp\; Snacks provided<br />\nSPONSORED BY:<br />\nCaregivers Count<br />\nWichita Littlest Heros<br />\nUpside of Down Syndrome Group
LOCATION:Wetlands Water Park 2303 Main Street\, Great Bend
UID:e.2303.10821
SEQUENCE:3
DTSTAMP:20260423T032437Z
URL:https://members.greatbend.org/events/details/special-summer-pool-party-10821
END:VEVENT

END:VCALENDAR
