BEGIN:VCALENDAR
VERSION:2.0
PRODID:-//ChamberMaster//Event Calendar 2.0//EN
METHOD:PUBLISH
X-PUBLISHED-TTL:P3D
REFRESH-INTERVAL:P3D
CALSCALE:GREGORIAN
BEGIN:VEVENT
DTSTART:20171004T180000Z
DTEND:20171004T210000Z
X-MICROSOFT-CDO-ALLDAYEVENT:FALSE
SUMMARY:Spectrum CPA Partners LLC - First Anniversary Celebration
DESCRIPTION:Leaders from Spectrum CPA Partners LLC\, a professional services firm\, today announced that they are celebrating their first anniversary. Rooted in the community\, Spectrum CPA Partners LLC\, prides themselves on providing clients with professional\, technologically advanced tax and accounting services. Offering professional services with a personal touch\, firm staff is also proud to have served as their clients' partner in success. To celebrate the first year anniversary an open house will be held Wednesday October 4th 1-4pm. Anyone interested in touring the office or learning more about Spectrum CPA Partners is invited to attend.
X-ALT-DESC;FMTTYPE=text/html:Leaders from Spectrum CPA Partners LLC\, a professional services firm\, today announced that they are celebrating their first anniversary. Rooted in the community\, Spectrum CPA Partners LLC\, prides themselves on providing clients with professional\, technologically advanced tax and accounting services. Offering professional services with a personal touch\, firm staff is also proud to have served as their clients&rsquo\; partner in success. To celebrate the first year anniversary an open house will be held Wednesday October 4th 1-4pm. Anyone interested in touring the office or learning more about Spectrum CPA Partners is invited to attend.
LOCATION:Spectrum CPA Partners\, LLC 1400 Polk St Great Bend\, KS 67530
UID:e.2303.3388
SEQUENCE:3
DTSTAMP:20260422T132935Z
URL:https://members.greatbend.org/events/details/spectrum-cpa-partners-llc-first-anniversary-celebration-3388
END:VEVENT

END:VCALENDAR
