BEGIN:VCALENDAR
VERSION:2.0
PRODID:-//ChamberMaster//Event Calendar 2.0//EN
METHOD:PUBLISH
X-PUBLISHED-TTL:P3D
REFRESH-INTERVAL:P3D
CALSCALE:GREGORIAN
BEGIN:VEVENT
DTSTART:20170423T150000Z
DTEND:20170423T210000Z
X-MICROSOFT-CDO-ALLDAYEVENT:FALSE
SUMMARY:Spring Diva Day
DESCRIPTION:Shop for Mother's Day\, Graduation\, Spring or Just Because!\n\nYou will find things from: Accessories\, Clothing\, Jewelry\, Kitchenware\, Storage\, Candles\, Healthy Living\, Baking and More\n\n\n\nFree Admission and Door Prizes
X-ALT-DESC;FMTTYPE=text/html:<span style="color: rgb(13\, 6\, 0)\; font-family: Georgia\; font-size: 13.3333px\;">Shop for Mother&#39\;s Day\, Graduation\, Spring or Just Because!</span><br style="color: rgb(13\, 6\, 0)\; font-family: Georgia\; font-size: 13.3333px\;" />\n<span style="color: rgb(13\, 6\, 0)\; font-family: Georgia\; font-size: 13.3333px\;">You will find things from: Accessories\, Clothing\, Jewelry\, Kitchenware\, Storage\, Candles\, Healthy Living\, Baking and More</span><br style="color: rgb(13\, 6\, 0)\; font-family: Georgia\; font-size: 13.3333px\;" />\n<br style="color: rgb(13\, 6\, 0)\; font-family: Georgia\; font-size: 13.3333px\;" />\n<span style="color: rgb(13\, 6\, 0)\; font-family: Georgia\; font-size: 13.3333px\;">Free Admission and Door Prizes</span>
LOCATION:Best Western Courtyard in Great Bend
UID:e.2303.1013
SEQUENCE:3
DTSTAMP:20260422T220136Z
URL:https://members.greatbend.org/events/details/spring-diva-day-1013
END:VEVENT

END:VCALENDAR
