BEGIN:VCALENDAR
VERSION:2.0
PRODID:-//ChamberMaster//Event Calendar 2.0//EN
METHOD:PUBLISH
X-PUBLISHED-TTL:P3D
REFRESH-INTERVAL:P3D
CALSCALE:GREGORIAN
BEGIN:VEVENT
DTSTART:20260314T150000Z
DTEND:20260314T210000Z
X-MICROSOFT-CDO-ALLDAYEVENT:FALSE
SUMMARY:Spring Pop-Up Market!
DESCRIPTION:Celebrate the season at the Pop Up Spring Market on Saturday\, March 14 from 10 AM   4 PM at Dilly & Doc and The Bingo Hall\, 1119 Main Street in Great Bend\, Kansas! Shop from 30 local vendors and makers offering unique handmade goods\, boutique finds\, gifts\, and more. Enjoy refreshments while you browse\, enter for door prizes\, and spend the day supporting small businesses in our community. This is a FREE event and a great way to kick off spring with friends and family. Don't miss a fun-filled day of shopping\, community\, and local creativity right here in Great Bend!
X-ALT-DESC;FMTTYPE=text/html:Celebrate the season at the Pop Up Spring Market on Saturday\, March 14 from 10 AM &ndash\; 4 PM at Dilly &amp\; Doc and The Bingo Hall\, 1119 Main Street in Great Bend\, Kansas! Shop from 30 local vendors and makers offering unique handmade goods\, boutique finds\, gifts\, and more. Enjoy refreshments while you browse\, enter for door prizes\, and spend the day supporting small businesses in our community. This is a FREE event and a great way to kick off spring with friends and family. Don&rsquo\;t miss a fun-filled day of shopping\, community\, and local creativity right here in Great Bend!
LOCATION:1119 Main St Great Bend Ks
UID:e.2303.18253
SEQUENCE:3
DTSTAMP:20260421T133529Z
URL:https://members.greatbend.org/events/details/spring-pop-up-market-03-14-2026-18253
END:VEVENT

END:VCALENDAR
