BEGIN:VCALENDAR
VERSION:2.0
PRODID:-//ChamberMaster//Event Calendar 2.0//EN
METHOD:PUBLISH
X-PUBLISHED-TTL:P3D
REFRESH-INTERVAL:P3D
CALSCALE:GREGORIAN
BEGIN:VEVENT
DTSTART;VALUE=DATE:20170715
DTEND;VALUE=DATE:20170716
TRANSP:TRANSPARENT
X-MICROSOFT-CDO-ALLDAYEVENT:TRUE
SUMMARY:SRCA Dragstrip
DESCRIPTION:SAMMY MATTHEWS PLAY DAY DRAGS AND CHARITY FUND RAISER
X-ALT-DESC;FMTTYPE=text/html:<span style="color: rgb(13\, 6\, 0)\; font-family: Georgia\; font-size: 13.3333px\;">SAMMY MATTHEWS PLAY DAY DRAGS AND CHARITY FUND RAISER</span>
LOCATION:EXPO COMPLEX WEST OF GREAT BEND
UID:e.2303.1679
SEQUENCE:3
DTSTAMP:20260422T170947Z
URL:https://members.greatbend.org/events/details/srca-dragstrip-1679
END:VEVENT

END:VCALENDAR
