BEGIN:VCALENDAR
VERSION:2.0
PRODID:-//ChamberMaster//Event Calendar 2.0//EN
METHOD:PUBLISH
X-PUBLISHED-TTL:P3D
REFRESH-INTERVAL:P3D
CALSCALE:GREGORIAN
BEGIN:VEVENT
DTSTART:20170805T170000Z
DTEND:20170806T040000Z
X-MICROSOFT-CDO-ALLDAYEVENT:FALSE
SUMMARY:SRCA Dragstrip
DESCRIPTION:NHRA SUMMIT POINTS RACE #5 \n\nROCKY MOUNTAIN SUPERCHARGERS
X-ALT-DESC;FMTTYPE=text/html:<span style="color: rgb(13\, 6\, 0)\; font-family: Georgia\; font-size: 13.3333px\;">NHRA SUMMIT POINTS RACE #5&nbsp\;</span><br style="color: rgb(13\, 6\, 0)\; font-family: Georgia\; font-size: 13.3333px\;" />\n<span style="color: rgb(13\, 6\, 0)\; font-family: Georgia\; font-size: 13.3333px\;">ROCKY MOUNTAIN SUPERCHARGERS</span>
LOCATION:EXPO COMPLEX WEST OF GREAT BEND
UID:e.2303.1681
SEQUENCE:3
DTSTAMP:20260422T155103Z
URL:https://members.greatbend.org/events/details/srca-dragstrip-1681
END:VEVENT

END:VCALENDAR
