BEGIN:VCALENDAR
VERSION:2.0
PRODID:-//ChamberMaster//Event Calendar 2.0//EN
METHOD:PUBLISH
X-PUBLISHED-TTL:P3D
REFRESH-INTERVAL:P3D
CALSCALE:GREGORIAN
BEGIN:VEVENT
DTSTART:20170819T170000Z
DTEND:20170820T040000Z
X-MICROSOFT-CDO-ALLDAYEVENT:FALSE
SUMMARY:SRCA Dragstrip
DESCRIPTION:NHRA SUMMIT POINTS RACE #6\n\nNHRA NATIONAL DRAGSTER CHALLENGE\n\nNHRA SUMMIT JR DRAGSTER CHALLENGE
X-ALT-DESC;FMTTYPE=text/html:<span style="color: rgb(13\, 6\, 0)\; font-family: Georgia\; font-size: 13.3333px\;">NHRA SUMMIT POINTS RACE #6</span><br style="color: rgb(13\, 6\, 0)\; font-family: Georgia\; font-size: 13.3333px\;" />\n<span style="color: rgb(13\, 6\, 0)\; font-family: Georgia\; font-size: 13.3333px\;">NHRA NATIONAL DRAGSTER CHALLENGE</span><br style="color: rgb(13\, 6\, 0)\; font-family: Georgia\; font-size: 13.3333px\;" />\n<span style="color: rgb(13\, 6\, 0)\; font-family: Georgia\; font-size: 13.3333px\;">NHRA SUMMIT JR DRAGSTER CHALLENGE</span>
LOCATION:EXPO COMPLEX WEST OF GREAT BEND
UID:e.2303.1685
SEQUENCE:3
DTSTAMP:20260422T155038Z
URL:https://members.greatbend.org/events/details/srca-dragstrip-1685
END:VEVENT

END:VCALENDAR
