BEGIN:VCALENDAR
VERSION:2.0
PRODID:-//ChamberMaster//Event Calendar 2.0//EN
METHOD:PUBLISH
X-PUBLISHED-TTL:P3D
REFRESH-INTERVAL:P3D
CALSCALE:GREGORIAN
BEGIN:VEVENT
DTSTART:20171014T170000Z
DTEND:20171015T040000Z
X-MICROSOFT-CDO-ALLDAYEVENT:FALSE
SUMMARY:SRCA Dragstrip
DESCRIPTION:NHRA SUMMIT POINTS RACE #9\n\nNHRA KING OF THE TRACK
X-ALT-DESC;FMTTYPE=text/html:<span style="color: rgb(13\, 6\, 0)\; font-family: Georgia\; font-size: 13.3333px\;">NHRA SUMMIT POINTS RACE #9</span><br style="color: rgb(13\, 6\, 0)\; font-family: Georgia\; font-size: 13.3333px\;" />\n<span style="color: rgb(13\, 6\, 0)\; font-family: Georgia\; font-size: 13.3333px\;">NHRA KING OF THE TRACK</span>
LOCATION:EXPO COMPLEX WEST OF GREAT BEND
UID:e.2303.1698
SEQUENCE:3
DTSTAMP:20260422T131737Z
URL:https://members.greatbend.org/events/details/srca-dragstrip-1698
END:VEVENT

END:VCALENDAR
