BEGIN:VCALENDAR
VERSION:2.0
PRODID:-//ChamberMaster//Event Calendar 2.0//EN
METHOD:PUBLISH
X-PUBLISHED-TTL:P3D
REFRESH-INTERVAL:P3D
CALSCALE:GREGORIAN
BEGIN:VEVENT
DTSTART:20171028T003000Z
DTEND:20171028T040000Z
X-MICROSOFT-CDO-ALLDAYEVENT:FALSE
SUMMARY:SRCA Dragstrip
DESCRIPTION:TEST AND TUNE AND GAMBLERS RACE
X-ALT-DESC;FMTTYPE=text/html:<span style="color: rgb(13\, 6\, 0)\; font-family: Georgia\; font-size: 13.3333px\;">TEST AND TUNE AND GAMBLERS RACE</span>
LOCATION:EXPO COMPLEX WEST OF GREAT BEND
UID:e.2303.1699
SEQUENCE:3
DTSTAMP:20260422T131651Z
URL:https://members.greatbend.org/events/details/srca-dragstrip-1699
END:VEVENT

END:VCALENDAR
