BEGIN:VCALENDAR
VERSION:2.0
PRODID:-//ChamberMaster//Event Calendar 2.0//EN
METHOD:PUBLISH
X-PUBLISHED-TTL:P3D
REFRESH-INTERVAL:P3D
CALSCALE:GREGORIAN
BEGIN:VEVENT
DTSTART;VALUE=DATE:20200911
DTEND;VALUE=DATE:20200913
TRANSP:TRANSPARENT
X-MICROSOFT-CDO-ALLDAYEVENT:TRUE
SUMMARY:SRCA Points Race #10
DESCRIPTION:SRCA Points Race #10
X-ALT-DESC;FMTTYPE=text/html:SRCA Points Race #10
LOCATION:SRCA Drag Strip
UID:e.2303.8002
SEQUENCE:3
DTSTAMP:20260425T122141Z
URL:https://members.greatbend.org/events/details/srca-points-race-10-8002
END:VEVENT

END:VCALENDAR
