BEGIN:VCALENDAR
VERSION:2.0
PRODID:-//ChamberMaster//Event Calendar 2.0//EN
METHOD:PUBLISH
X-PUBLISHED-TTL:P3D
REFRESH-INTERVAL:P3D
CALSCALE:GREGORIAN
BEGIN:VEVENT
DTSTART:20171028T003000Z
DTEND:20171028T040000Z
X-MICROSOFT-CDO-ALLDAYEVENT:FALSE
SUMMARY:Star Gazing Workshop
DESCRIPTION:Join the Fort Hays State University Astronomy Club at the KWEC for a night under the stars. Telescopes and expertise pointing out astronomical features will be provided along with light refreshments. No registration required. FREE event.
X-ALT-DESC;FMTTYPE=text/html:Join the Fort Hays State University Astronomy Club at the KWEC for a night under the stars. Telescopes and expertise pointing out astronomical features will be provided along with light refreshments. No registration required. FREE event.
LOCATION:Kansas Wetlands Education Center 592 NE K-156 Hwy\, Great Bend\, KS 67530
UID:e.2303.3395
SEQUENCE:3
DTSTAMP:20260422T131155Z
URL:https://members.greatbend.org/events/details/star-gazing-workshop-3395
END:VEVENT

END:VCALENDAR
