BEGIN:VCALENDAR
VERSION:2.0
PRODID:-//ChamberMaster//Event Calendar 2.0//EN
METHOD:PUBLISH
X-PUBLISHED-TTL:P3D
REFRESH-INTERVAL:P3D
CALSCALE:GREGORIAN
BEGIN:VEVENT
DTSTART:20240627T210000Z
DTEND:20240628T000000Z
X-MICROSOFT-CDO-ALLDAYEVENT:FALSE
SUMMARY:Street Stroll
DESCRIPTION:Each Thursday\, through October\, the Barton County Health Department and the City of Great Bend are offering the Summer Street Stroll at Jack Kilby Square from 4:00 PM - 7:00 PM.
X-ALT-DESC;FMTTYPE=text/html:Each Thursday\, through October\, the Barton County Health Department and the City of Great Bend are offering the Summer Street Stroll at Jack Kilby Square from 4:00 PM - 7:00 PM.
LOCATION:Jack Kilby Square
UID:e.2303.13692
SEQUENCE:3
DTSTAMP:20260425T190551Z
URL:https://members.greatbend.org/events/details/street-stroll-06-27-2024-13692
END:VEVENT

END:VCALENDAR
