BEGIN:VCALENDAR
VERSION:2.0
PRODID:-//ChamberMaster//Event Calendar 2.0//EN
METHOD:PUBLISH
X-PUBLISHED-TTL:P3D
REFRESH-INTERVAL:P3D
CALSCALE:GREGORIAN
BEGIN:VEVENT
DTSTART:20230204T220000Z
DTEND:20230205T020000Z
X-MICROSOFT-CDO-ALLDAYEVENT:FALSE
SUMMARY:String Masterclass and Concert: Jopara Ensemble
DESCRIPTION:4 p.m. masterclass with concert at 7:30 p.m.\, Chapel and Fine Arts Auditorium. String instrument artists from Emporia State University and Washburn University will present an evening of music and cultural exchange in the form of a masterclass featuring Barton students and local community members. The night will culminate with a concert that will include contributions from Barton's Keyboard Instructor and Director of Accompaniment\, Dr. Alejandro Avila showcasing Paraguayan music in different instrumental combinations. Event is free and open to the public.
X-ALT-DESC;FMTTYPE=text/html:<span style="color: rgb(0\, 0\, 0)\; font-family: Arial\, Helvetica\, sans-serif\; font-size: small\;">4 p.m. masterclass with concert at 7:30 p.m.\, Chapel and Fine Arts Auditorium. String instrument artists from Emporia State University and Washburn University will present an evening of music and cultural exchange in the form of a masterclass featuring Barton students and local community members. The night will culminate with a concert that will include contributions from Barton&#39\;s Keyboard Instructor and Director of Accompaniment\, Dr. Alejandro Avila showcasing Paraguayan music in different instrumental combinations. Event is free and open to the public.</span>
LOCATION:Barton Community College\, 245 NE 30 Rd.
UID:e.2303.11622
SEQUENCE:3
DTSTAMP:20260424T214902Z
URL:https://members.greatbend.org/events/details/string-masterclass-and-concert-jopara-ensemble-11622
END:VEVENT

END:VCALENDAR
