BEGIN:VCALENDAR
VERSION:2.0
PRODID:-//ChamberMaster//Event Calendar 2.0//EN
METHOD:PUBLISH
X-PUBLISHED-TTL:P3D
REFRESH-INTERVAL:P3D
CALSCALE:GREGORIAN
BEGIN:VEVENT
DTSTART:20220720T150000Z
DTEND:20220720T230000Z
X-MICROSOFT-CDO-ALLDAYEVENT:FALSE
SUMMARY:Stuff the Bus
DESCRIPTION:UWCK will be collecting items for our 22 Community Partners. These items are used to fill backpacks for students\, fill food shortages for families\, and provide our Partners with the supplies they need to do their work.
X-ALT-DESC;FMTTYPE=text/html:UWCK will be collecting items for our 22 Community Partners. These items are used to fill backpacks for students\, fill food shortages for families\, and provide our Partners with the supplies they need to do their work.
LOCATION:Both Dillons locations and Wal Mart
UID:e.2303.10579
SEQUENCE:3
DTSTAMP:20260423T045826Z
URL:https://members.greatbend.org/events/details/stuff-the-bus-07-20-2022-10579
END:VEVENT

END:VCALENDAR
