BEGIN:VCALENDAR
VERSION:2.0
PRODID:-//ChamberMaster//Event Calendar 2.0//EN
METHOD:PUBLISH
X-PUBLISHED-TTL:P3D
REFRESH-INTERVAL:P3D
CALSCALE:GREGORIAN
BEGIN:VEVENT
DTSTART:20170810T210000Z
DTEND:20170811T040000Z
X-MICROSOFT-CDO-ALLDAYEVENT:FALSE
SUMMARY:Summer Street Stroll
DESCRIPTION:Great Bend Summer Street Stroll & Farmers Market is a downtown open-air evening market in Jack Kilby Square around the Barton County Courthouse on Thursday evenings throughout the summer.\n\n\n\nSpecial events such as the City Band Concerts and Movies in the Park are held at the historic band shell along with the market on Thursday evenings during the summer and downtown stores have later hours to accommodate area shoppers visiting the market and events. Fresh Fruits and Vegetables\, honey\, art and handmade crafts are the focus of the Summer Street Stroll Farmers Market and local vendors are encouraged to participate for the entire summer. This market also serves as the designated market for the Kansas Senior Farmers Market Nutrition Program for Barton County where seniors may redeem checks for locally grown fresh vegetables\, fruit\, herbs\, and honey.
X-ALT-DESC;FMTTYPE=text/html:<span style="color: rgb(13\, 6\, 0)\; font-family: Georgia\; font-size: 13.3333px\;">Great Bend Summer Street Stroll &amp\; Farmers Market is a downtown open-air evening market in Jack Kilby Square around the Barton County Courthouse on Thursday evenings throughout the summer.</span><br style="color: rgb(13\, 6\, 0)\; font-family: Georgia\; font-size: 13.3333px\;">\n<br style="color: rgb(13\, 6\, 0)\; font-family: Georgia\; font-size: 13.3333px\;">\n<span style="color: rgb(13\, 6\, 0)\; font-family: Georgia\; font-size: 13.3333px\;">Special events such as the City Band Concerts and Movies in the Park are held at the historic band shell along with the market on Thursday evenings during the summer and downtown stores have later hours to accommodate area shoppers visiting the market and events. Fresh Fruits and Vegetables\, honey\, art and handmade crafts are the focus of the Summer Street Stroll Farmers Market and local vendors are encouraged to participate for the entire summer. This market also serves as the designated market for the Kansas Senior Farmers Market Nutrition Program for Barton County where seniors may redeem checks for locally grown fresh vegetables\, fruit\, herbs\, and honey.</span>
LOCATION:Jack Kilby Square
UID:e.2303.3031
SEQUENCE:3
DTSTAMP:20260422T155441Z
URL:https://members.greatbend.org/events/details/summer-street-stroll-08-10-2017-3031
END:VEVENT

END:VCALENDAR
