BEGIN:VCALENDAR
VERSION:2.0
PRODID:-//ChamberMaster//Event Calendar 2.0//EN
METHOD:PUBLISH
X-PUBLISHED-TTL:P3D
REFRESH-INTERVAL:P3D
CALSCALE:GREGORIAN
BEGIN:VEVENT
DTSTART:20170826T133000Z
DTEND:20170826T203000Z
X-MICROSOFT-CDO-ALLDAYEVENT:FALSE
SUMMARY:Sunflower Diversified Ride for Independence Poker Run
DESCRIPTION:Ride for Independence Poker Run is Sunflower Diversified Services' 1st Annual Motorcycle Run which will be on Saturday\, August 26\, 2017. This fundraiser helps the many individuals SDS serve live a more independent life by providing them with the resources they need. Whether you ride a bike or drive a car\, you are welcomed to join in on the fun. Participants will check in between 8:30 am - 10 am at Sunshine Garage in Larned\, KS. Kickstands up at 10 am and last bikes out by 10:30 am. \n\n\n\n***Enjoy some biscuits & gravy for only $3.00 before you hit the road!***\n\n\n\nCash prizes will be paid out to the best poker hand\, the 2nd best poker hand\, and even the worst poker hand. When you get into Great Bend\, you can swing by the Historical Society Museum and view the magnificent cars on display in the Rolling Car Show.\n\n\n\nThe final stop brings you to Jack Kilby Square in Great Bend\, where you can enjoy some of the wonderful Screwloose BBQ while you are listening to the talented Jaron Bell perform for this event. Don't forget to purchase your raffle tickets for the many prizes that will be offered\, including a motorcycle riding gnome statue and an autographed "Ride with Norman Reedus" framed picture\, and many more great prizes!\n\n\n\n$25 - Rider or Driver/ $30 - Day of event\n\n$20 - Passenger / $10 - each additional Poker Hand\n\n\n\n 1st Stop: Tracy's Pub & Grill - La Crosse\, KS\n\n 2nd Stop: Tap Room   Hoisington\, KS\n\n 3rd Stop: Odin Store - Odin\, KS\n\n Final Stop: Jack Kilby Square (by courthouse)   Great Bend\, KS\n\n\n\n**All bikes in at 3:30 pm. Winners will be announced at that time.\n\n\n\nRiders who register by August 10th will receive a free T-shirt!!\n\n\n\n~Additional T-shirts may be purchased during the event!
X-ALT-DESC;FMTTYPE=text/html:<span style="color: rgb(13\, 6\, 0)\; font-family: Georgia\; font-size: 13.3333px\;">Ride for Independence Poker Run is Sunflower Diversified Services&#39\; 1st Annual Motorcycle Run which will be on Saturday\, August 26\, 2017. This fundraiser helps the many individuals SDS serve live a more independent life by providing them with the resources they need. Whether you ride a bike or drive a car\, you are welcomed to join in on the fun. Participants will check in between 8:30 am - 10 am at Sunshine Garage in Larned\, KS. Kickstands up at 10 am and last bikes out by 10:30 am.&nbsp\;</span><br style="color: rgb(13\, 6\, 0)\; font-family: Georgia\; font-size: 13.3333px\;" />\n<br style="color: rgb(13\, 6\, 0)\; font-family: Georgia\; font-size: 13.3333px\;" />\n<span style="color: rgb(13\, 6\, 0)\; font-family: Georgia\; font-size: 13.3333px\;">***Enjoy some biscuits &amp\; gravy for only $3.00 before you hit the road!***</span><br style="color: rgb(13\, 6\, 0)\; font-family: Georgia\; font-size: 13.3333px\;" />\n<br style="color: rgb(13\, 6\, 0)\; font-family: Georgia\; font-size: 13.3333px\;" />\n<span style="color: rgb(13\, 6\, 0)\; font-family: Georgia\; font-size: 13.3333px\;">Cash prizes will be paid out to the best poker hand\, the 2nd best poker hand\, and even the worst poker hand. When you get into Great Bend\, you can swing by the Historical Society Museum and view the magnificent cars on display in the Rolling Car Show.</span><br style="color: rgb(13\, 6\, 0)\; font-family: Georgia\; font-size: 13.3333px\;" />\n<br style="color: rgb(13\, 6\, 0)\; font-family: Georgia\; font-size: 13.3333px\;" />\n<span style="color: rgb(13\, 6\, 0)\; font-family: Georgia\; font-size: 13.3333px\;">The final stop brings you to Jack Kilby Square in Great Bend\, where you can enjoy some of the wonderful Screwloose BBQ while you are listening to the talented Jaron Bell perform for this event. Don&#39\;t forget to purchase your raffle tickets for the many prizes that will be offered\, including a motorcycle riding gnome statue and an autographed &quot\;Ride with Norman Reedus&quot\; framed picture\, and many more great prizes!</span><br style="color: rgb(13\, 6\, 0)\; font-family: Georgia\; font-size: 13.3333px\;" />\n<br style="color: rgb(13\, 6\, 0)\; font-family: Georgia\; font-size: 13.3333px\;" />\n<span style="color: rgb(13\, 6\, 0)\; font-family: Georgia\; font-size: 13.3333px\;">$25 - Rider or Driver/ $30 - Day of event</span><br style="color: rgb(13\, 6\, 0)\; font-family: Georgia\; font-size: 13.3333px\;" />\n<span style="color: rgb(13\, 6\, 0)\; font-family: Georgia\; font-size: 13.3333px\;">$20 - Passenger / $10 - each additional Poker Hand</span><br style="color: rgb(13\, 6\, 0)\; font-family: Georgia\; font-size: 13.3333px\;" />\n<br style="color: rgb(13\, 6\, 0)\; font-family: Georgia\; font-size: 13.3333px\;" />\n<span style="color: rgb(13\, 6\, 0)\; font-family: Georgia\; font-size: 13.3333px\;">&bull\;1st Stop: Tracy&rsquo\;s Pub &amp\; Grill - La Crosse\, KS</span><br style="color: rgb(13\, 6\, 0)\; font-family: Georgia\; font-size: 13.3333px\;" />\n<span style="color: rgb(13\, 6\, 0)\; font-family: Georgia\; font-size: 13.3333px\;">&bull\;2nd Stop: Tap Room &ndash\; Hoisington\, KS</span><br style="color: rgb(13\, 6\, 0)\; font-family: Georgia\; font-size: 13.3333px\;" />\n<span style="color: rgb(13\, 6\, 0)\; font-family: Georgia\; font-size: 13.3333px\;">&bull\;3rd Stop: Odin Store - Odin\, KS</span><br style="color: rgb(13\, 6\, 0)\; font-family: Georgia\; font-size: 13.3333px\;" />\n<span style="color: rgb(13\, 6\, 0)\; font-family: Georgia\; font-size: 13.3333px\;">&bull\;Final Stop: Jack Kilby Square (by courthouse) &ndash\; Great Bend\, KS</span><br style="color: rgb(13\, 6\, 0)\; font-family: Georgia\; font-size: 13.3333px\;" />\n<br style="color: rgb(13\, 6\, 0)\; font-family: Georgia\; font-size: 13.3333px\;" />\n<span style="color: rgb(13\, 6\, 0)\; font-family: Georgia\; font-size: 13.3333px\;">**All bikes in at 3:30 pm. Winners will be announced at that time.</span><br style="color: rgb(13\, 6\, 0)\; font-family: Georgia\; font-size: 13.3333px\;" />\n<br style="color: rgb(13\, 6\, 0)\; font-family: Georgia\; font-size: 13.3333px\;" />\n<span style="color: rgb(13\, 6\, 0)\; font-family: Georgia\; font-size: 13.3333px\;">Riders who register by August 10th will receive a free T-shirt!!</span><br style="color: rgb(13\, 6\, 0)\; font-family: Georgia\; font-size: 13.3333px\;" />\n<br style="color: rgb(13\, 6\, 0)\; font-family: Georgia\; font-size: 13.3333px\;" />\n<span style="color: rgb(13\, 6\, 0)\; font-family: Georgia\; font-size: 13.3333px\;">~Additional T-shirts may be purchased during the event!</span>
LOCATION:Check in @ Sunshine Garage in Larned\, KS 1006 Broadway Larned\, KS 67550
UID:e.2303.3006
SEQUENCE:3
DTSTAMP:20260422T160159Z
URL:https://members.greatbend.org/events/details/sunflower-diversified-ride-for-independence-poker-run-3006
END:VEVENT

END:VCALENDAR
