BEGIN:VCALENDAR
VERSION:2.0
PRODID:-//ChamberMaster//Event Calendar 2.0//EN
METHOD:PUBLISH
X-PUBLISHED-TTL:P3D
REFRESH-INTERVAL:P3D
CALSCALE:GREGORIAN
BEGIN:VEVENT
DTSTART:20240607T130000Z
DTEND:20240607T150000Z
X-MICROSOFT-CDO-ALLDAYEVENT:FALSE
SUMMARY:Sunflower Health Plan Breakfast
DESCRIPTION:Sunflower Health Plan invites you to a breakfast at Heart of Kansas following the Rural Health Fair (June 6th) to talk directly to providers or organizations to discuss Health issues in rural areas with their Rural Health Advisory Committee.
X-ALT-DESC;FMTTYPE=text/html:Sunflower Health Plan invites you to a breakfast at Heart of Kansas following the Rural Health Fair (June 6th) to talk directly to providers or organizations to discuss Health issues in rural areas with their Rural Health Advisory Committee.
LOCATION:Heart of Kansas 1905\, 19th St.
UID:e.2303.13649
SEQUENCE:3
DTSTAMP:20260425T160519Z
URL:https://members.greatbend.org/events/details/sunflower-health-plan-breakfast-13649
END:VEVENT

END:VCALENDAR
