BEGIN:VCALENDAR
VERSION:2.0
PRODID:-//ChamberMaster//Event Calendar 2.0//EN
METHOD:PUBLISH
X-PUBLISHED-TTL:P3D
REFRESH-INTERVAL:P3D
CALSCALE:GREGORIAN
BEGIN:VEVENT
DTSTART;VALUE=DATE:20220721
DTEND;VALUE=DATE:20220829
TRANSP:TRANSPARENT
X-MICROSOFT-CDO-ALLDAYEVENT:TRUE
SUMMARY:Surviving Suicide Foundation | Shoe Drive!
DESCRIPTION:Surviving Suicide Foundation\n\n\n\nCleaning out your Closets?\n\nWe need your shoes!\n\n\n\n\n\nHelp us raise funds just by donating gently worn\, used\, and new shoes! be sure to ask friends\, family\, neighbors\, and co-workers to donate too!\n\n\n\nCollected shoes not only help support us but they will be reused and given a second life by those in need through #microenterprise. It's a WIN-WIN!\n\n\n\nDROP OFF LOCATIONS:\n\n\n	Surviving Suicide Foundation\n	\n		 1411 Wilson\, GB\n	\n	\n	That Critter Place\n	\n		1901 Main St\, GB\n	\n	\n	Mind Sculpt Games\n	\n		1908 10th St\, GB\n	\n	\n	Gambino's Pizza\n	\n		1309 Main St\, GB\n	\n	\n\n\n\nQuestions? Contact (402) 318-7366 or email Miailewis8@gmail.com
X-ALT-DESC;FMTTYPE=text/html:<div><span style="font-size:20px\;"><span style="font-family:tahoma\;"><span style="font-size:24px\;"><span style="color:#DDA0DD\;">Surviving Suicide Foundation</span></span></span><br />\n<br />\n<span style="color:#0000FF\;"><span style="font-family:comic sans ms\;">Cleaning out your Closets?</span></span></span></div>\n\n<div style="margin-left: 40px\;"><span style="font-size:20px\;"><span style="color:#0000FF\;"><span style="font-size:18px\;"><span style="font-family:comic sans ms\;">We need your shoes!</span></span></span></span></div>\n\n<div><br />\n<br />\n<span style="font-size:16px\;">Help us raise funds just by donating gently worn\, used\, and new shoes! be sure to ask friends\, family\, neighbors\, and co-workers to donate too!<br />\n<br />\nCollected shoes not only help support us but they will be reused and given a second life by those in need through #microenterprise. It&#39\;s a WIN-WIN!</span><br />\n<br />\n<u>DROP OFF LOCATIONS:</u>\n\n<ul>\n	<li>Surviving Suicide Foundation\n	<ul>\n		<li>&#8203\;1411 Wilson\, GB</li>\n	</ul>\n	</li>\n	<li>That Critter Place\n	<ul>\n		<li>1901 Main St\, GB</li>\n	</ul>\n	</li>\n	<li>Mind Sculpt Games\n	<ul>\n		<li>1908 10th St\, GB</li>\n	</ul>\n	</li>\n	<li>Gambino&#39\;s Pizza\n	<ul>\n		<li>1309 Main St\, GB</li>\n	</ul>\n	</li>\n</ul>\n<br />\n<span style="font-size:16px\;">Questions? Contact (402) 318-7366 or email&nbsp\;</span>Miailewis8@gmail.com</div>\n
LOCATION:DROP OFF LOCATIONS: Surviving Suicide Foundation 1411 Wilson\, GB That Critter Place 1901 Main St\, GB Mind Sculpt Games 1908 10th St\, GB Gambino's Pizza 1309 Main St\, GB
UID:e.2303.10866
SEQUENCE:3
DTSTAMP:20260423T032641Z
URL:https://members.greatbend.org/events/details/surviving-suicide-foundation-shoe-drive-10866
END:VEVENT

END:VCALENDAR
