BEGIN:VCALENDAR
VERSION:2.0
PRODID:-//ChamberMaster//Event Calendar 2.0//EN
METHOD:PUBLISH
X-PUBLISHED-TTL:P3D
REFRESH-INTERVAL:P3D
CALSCALE:GREGORIAN
BEGIN:VEVENT
DTSTART:20170809T163000Z
DTEND:20170809T180000Z
X-MICROSOFT-CDO-ALLDAYEVENT:FALSE
SUMMARY:Technology Roundtable Program
DESCRIPTION:Quarterly Technology Roundtable Luncheon\n\nWednesday\, August 9th\n\nSpray-Holt Family Board Room\, Chamber Office\, 1125 Williams\n\n11:30 a.m. Lunch | 11:45 a.m. Discussion | 1 p.m. Dismissal\n\n\n\n"Emerging Technology"\n\nShow & Tell for Devises\, Gadgets\, Software & More!\n\n\n\nHave you found a unique device\, stellar software or a nifty gadget that makes life easier or work more efficient? Bring something to "show & tell" and join us for the Tech Roundtable on August 9th! As the "internet of things" continues to connect the daily functions of life with technology\, we'll explore what IT professionals are using to integrate emerging technologies! \n\n\n\n\n\n$15 Per Person - Includes Lunch\, Beverage & Program\n\nCatered By: Delgado's\n\n\n\nA program of the Great Bend Chamber\, the Technology Roundtable facilitates a conversation between IT Professionals\, this is a great opportunity to share best practices\, ask questions and boost awareness among peers in the community. For business owners and/or consumers\, this is an opportunity to bring questions\, explore ideas & learn something new! \n\n\n\nNext Roundtable will be Nov. 8th   Ask the Experts
X-ALT-DESC;FMTTYPE=text/html:<span style="color:#0D0600\;"><span style="font-family:georgia\,serif\;"><span style="font-size:10.0pt\;">Quarterly Technology Roundtable Luncheon<br />\nWednesday\, August 9th<br />\nSpray-Holt Family Board Room\, Chamber Office\, 1125 Williams<br />\n11:30 a.m. Lunch | 11:45 a.m. Discussion | 1 p.m. Dismissal<br />\n<br />\n&quot\;Emerging Technology&quot\;<br />\nShow &amp\; Tell for Devises\, Gadgets\, Software &amp\; More!<br />\n<br />\nHave you found a unique device\, stellar software or a nifty gadget that makes life easier or work more efficient? Bring something to &ldquo\;show &amp\; tell&rdquo\; and join us for the Tech Roundtable on August 9th! As the &ldquo\;internet of things&rdquo\; continues to connect the daily functions of life with technology\, we&rsquo\;ll explore what IT professionals are using to integrate emerging technologies!&nbsp\;<br />\n<br />\n<br />\n$15 Per Person - Includes Lunch\, Beverage &amp\; Program<br />\nCatered By: Delgado&#39\;s<br />\n<br />\nA program of the Great Bend Chamber\, the Technology Roundtable facilitates a conversation between IT Professionals\, this is a great opportunity to share best practices\, ask questions and boost awareness among peers in the community. For business owners and/or consumers\, this is an opportunity to bring questions\, explore ideas &amp\; learn something new!&nbsp\;<br />\n<br />\nNext Roundtable will be Nov. 8th &ndash\; Ask the Experts</span></span></span>
LOCATION:Spray-Holt Family Board Room\, Chamber Office\, 1125 Williams
UID:e.2303.3019
SEQUENCE:3
DTSTAMP:20260422T155000Z
URL:https://members.greatbend.org/events/details/technology-roundtable-program-3019
END:VEVENT

END:VCALENDAR
