BEGIN:VCALENDAR
VERSION:2.0
PRODID:-//ChamberMaster//Event Calendar 2.0//EN
METHOD:PUBLISH
X-PUBLISHED-TTL:P3D
REFRESH-INTERVAL:P3D
CALSCALE:GREGORIAN
BEGIN:VEVENT
DTSTART:20200910T233000Z
DTEND:20200910T233000Z
X-MICROSOFT-CDO-ALLDAYEVENT:FALSE
SUMMARY:Teen Anime Night
DESCRIPTION:Tune in every other Thursday to watch an episode of a random anime with us! To join\, use the code @gbmanga on Remind.com or in the Remind app\, or text it to 81010 (standard message rates apply). Once you're in\, send us a message with the words 'anime night' and we'll get you set up from there!
X-ALT-DESC;FMTTYPE=text/html:Tune in every other Thursday to watch an episode of a random anime with us! To join\, use the code @gbmanga on Remind.com or in the Remind app\, or text it to 81010 (standard message rates apply). Once you&#39\;re in\, send us a message with the words &#39\;anime night&#39\; and we&#39\;ll get you set up from there!
LOCATION:Discord
UID:e.2303.8018
SEQUENCE:3
DTSTAMP:20260425T123819Z
URL:https://members.greatbend.org/events/details/teen-anime-night-09-10-2020-8018
END:VEVENT

END:VCALENDAR
