BEGIN:VCALENDAR
VERSION:2.0
PRODID:-//ChamberMaster//Event Calendar 2.0//EN
METHOD:PUBLISH
X-PUBLISHED-TTL:P3D
REFRESH-INTERVAL:P3D
CALSCALE:GREGORIAN
BEGIN:VEVENT
DTSTART:20201028T140000Z
DTEND:20201028T163000Z
X-MICROSOFT-CDO-ALLDAYEVENT:FALSE
SUMMARY:The Aligned Leader Program Session Online
DESCRIPTION:
X-ALT-DESC;FMTTYPE=text/html:
LOCATION:https://www.greatbend.org/aligned-leader
UID:e.2303.8051
SEQUENCE:3
DTSTAMP:20260425T122609Z
URL:https://members.greatbend.org/events/details/the-aligned-leader-program-session-online-8051
END:VEVENT

END:VCALENDAR
