BEGIN:VCALENDAR
VERSION:2.0
PRODID:-//ChamberMaster//Event Calendar 2.0//EN
METHOD:PUBLISH
X-PUBLISHED-TTL:P3D
REFRESH-INTERVAL:P3D
CALSCALE:GREGORIAN
BEGIN:VEVENT
DTSTART:20170726T010000Z
DTEND:20170726T030000Z
X-MICROSOFT-CDO-ALLDAYEVENT:FALSE
SUMMARY:"The Contrast - A Musical" Barton Theater Summer Production outdoor play
DESCRIPTION:The Barton Theatre department will produce an outdoor play this summer to be performed at the new and improved Great Bend Downtown Bandshell. The play will be "The Contrast - A Musical" and will take a satirical look at the first Americans working to define American culture while still living and enjoying the British lifestyle.
X-ALT-DESC;FMTTYPE=text/html:<span style="color: rgb(13\, 6\, 0)\; font-family: Georgia\; font-size: 13.3333px\;">The Barton Theatre department will produce an outdoor play this summer to be performed at the new and improved Great Bend Downtown Bandshell. The play will be &quot\;The Contrast - A Musical&quot\; and will take a satirical look at the first Americans working to define American culture while still living and enjoying the British lifestyle.</span>
LOCATION:Great Bend Downtown Bandshell\, Jack Kilby Square
UID:e.2303.1802
SEQUENCE:3
DTSTAMP:20260422T173325Z
URL:https://members.greatbend.org/events/details/the-contrast-a-musical-barton-theater-summer-production-outdoor-play-1802
END:VEVENT

END:VCALENDAR
