BEGIN:VCALENDAR
VERSION:2.0
PRODID:-//ChamberMaster//Event Calendar 2.0//EN
METHOD:PUBLISH
X-PUBLISHED-TTL:P3D
REFRESH-INTERVAL:P3D
CALSCALE:GREGORIAN
BEGIN:VEVENT
DTSTART:20230420T170000Z
DTEND:20230420T180000Z
X-MICROSOFT-CDO-ALLDAYEVENT:FALSE
SUMMARY:The Entrepreneurial Equation
DESCRIPTION:Join Financial Advisor\, Kris Sundahl\, as he presents The Entrepreneurial Equation. You'll learn about the financial tools and strategies that can help you run your business more easily and effectively.
X-ALT-DESC;FMTTYPE=text/html:Join Financial Advisor\, Kris Sundahl\, as he presents The Entrepreneurial Equation. You&#39\;ll learn about the financial tools and strategies that can help you run your business more easily and effectively.
LOCATION:Edward Jones Office 2016 19th Street\, Great Bend
UID:e.2303.11744
SEQUENCE:3
DTSTAMP:20260424T200919Z
URL:https://members.greatbend.org/events/details/the-entrepreneurial-equation-11744
END:VEVENT

END:VCALENDAR
