BEGIN:VCALENDAR
VERSION:2.0
PRODID:-//ChamberMaster//Event Calendar 2.0//EN
METHOD:PUBLISH
X-PUBLISHED-TTL:P3D
REFRESH-INTERVAL:P3D
CALSCALE:GREGORIAN
BEGIN:VEVENT
DTSTART:20180422T003000Z
DTEND:20180422T030000Z
X-MICROSOFT-CDO-ALLDAYEVENT:FALSE
SUMMARY:"The Foreigner" - GBCT Production
DESCRIPTION:The Great Bend Community Theatre invites you to attend their last production of the year - "The Foreigner." Show times are April 19-22 at 7:30 pm\, with a Sunday matinee at 2:00 pm. Tickets are $12.\n\n\n\nA Social Hour will take place from 6-7 pm on Saturday\, April 21st. Tickets for the Social Hour are an additional $10 per person.
X-ALT-DESC;FMTTYPE=text/html:The Great Bend Community Theatre invites you to attend their last production of the year - &quot\;The Foreigner.&quot\; Show times are April 19-22 at 7:30 pm\, with a Sunday matinee at 2:00 pm. Tickets are $12.<br />\n<br />\nA Social Hour will take place from 6-7 pm on Saturday\, April 21st. Tickets for the Social Hour are an additional $10 per person.&nbsp\;<br />\n&nbsp\;
LOCATION:The Crest Theatre 1905 Lakin Ave Great Bend\, KS 67530
UID:e.2303.3745
SEQUENCE:3
DTSTAMP:20260420T094205Z
URL:https://members.greatbend.org/events/details/the-foreigner-gbct-production-04-21-2018-3745
END:VEVENT

END:VCALENDAR
