BEGIN:VCALENDAR
VERSION:2.0
PRODID:-//ChamberMaster//Event Calendar 2.0//EN
METHOD:PUBLISH
X-PUBLISHED-TTL:P3D
REFRESH-INTERVAL:P3D
CALSCALE:GREGORIAN
BEGIN:VEVENT
DTSTART:20171018T170000Z
DTEND:20171018T183000Z
X-MICROSOFT-CDO-ALLDAYEVENT:FALSE
SUMMARY:THE STATE OF HIGHER EDUCATION IN KANSAS - Luncheon
DESCRIPTION:Fort Hays State University invites you to a luncheon\, compliments of the sponsors listed below\, featuring Dr. Andy Tompkins who will discuss "The State of Higher Education in Kansas." Learn how FHSU and other regents universities have been successful in preparing an educated workforce in an ever-changing and globally connected world.\n\n\n\nTompkins was appointed interim president of Fort Hays State University in mid-December 2016. He has served at all levels of public education including high school English teacher\, high school principal\, and superintendent. From 1996-2005\, Tompkins served as Commissioner of Education for the state of Kansas. His higher education experience includes work as an associate professor\, department chair\, dean\, and President and CEO of the Kansas Board of Regents\, a position he held until his retirement in 2015.
X-ALT-DESC;FMTTYPE=text/html:Fort Hays State University invites you to a luncheon\, compliments of the sponsors listed below\, featuring Dr. Andy Tompkins who will discuss &ldquo\;The State of Higher Education in Kansas.&rdquo\; Learn how FHSU and other regents universities have been successful in preparing an educated workforce in an ever-changing and globally connected world.<br />\n<br />\nTompkins was appointed interim president of Fort Hays State University in mid-December 2016. He has served at all levels of public education including high school English teacher\, high school principal\, and superintendent. From 1996-2005\, Tompkins served as Commissioner of Education for the state of Kansas. His higher education experience includes work as an associate professor\, department chair\, dean\, and President and CEO of the Kansas Board of Regents\, a position he held until his retirement in 2015.
LOCATION:Holiday Inn Express 3821 10th St Great Bend\, KS 67530
UID:e.2303.3400
SEQUENCE:3
DTSTAMP:20260422T133103Z
URL:https://members.greatbend.org/events/details/the-state-of-higher-education-in-kansas-luncheon-3400
END:VEVENT

END:VCALENDAR
