BEGIN:VCALENDAR
VERSION:2.0
PRODID:-//ChamberMaster//Event Calendar 2.0//EN
METHOD:PUBLISH
X-PUBLISHED-TTL:P3D
REFRESH-INTERVAL:P3D
CALSCALE:GREGORIAN
BEGIN:VEVENT
DTSTART:20230416T140000Z
DTEND:20230416T210000Z
X-MICROSOFT-CDO-ALLDAYEVENT:FALSE
SUMMARY:Thirteenth Annual Barton Foundation Sporting Clay Shoot Fundraiser
DESCRIPTION:fundraiser for Barton faculty mini-grants\; competition for individuals or three-person teams\; entry fee is $100 per person. Lunch and a hunger-orange hat are provided for those who pre-register by April 3. Fees include 100 sporting clays. The last shoot begins at 3 p.m. Visit clayshoot.bartonccfoundation.org to register.
X-ALT-DESC;FMTTYPE=text/html:<span style="color: rgb(34\, 34\, 34)\; font-family: Arial\, Helvetica\, sans-serif\; font-size: small\;"><span style="font-size: 11pt\;">fundraiser for Barton faculty mini-grants\; competition for individuals or three-person teams\; entry fee is $100 per person. Lunch and a hunger-orange hat are provided for those who pre-register by April 3. Fees include 100 sporting clays. The last shoot begins at 3 p.m. Visit&nbsp\;</span></span><a data-saferedirecturl="https://www.google.com/url?q=https://clayshoot.bartonccfoundation.org/&amp\;source=gmail&amp\;ust=1679071089383000&amp\;usg=AOvVaw0-XpUKdmPP0K5UieOGpuSB" href="https://clayshoot.bartonccfoundation.org/" style="color: rgb(17\, 85\, 204)\; font-family: Arial\, Helvetica\, sans-serif\; font-size: small\;" target="_blank"><span style="font-size: 11pt\;">clayshoot.bartonccfoundation.<wbr />org</span></a><span style="color: rgb(34\, 34\, 34)\; font-family: Arial\, Helvetica\, sans-serif\; font-size: small\;"><span style="font-size: 11pt\;">&nbsp\;to register.</span></span>
LOCATION:Camp Aldrich\, 884 NE 110 Ave
UID:e.2303.11757
SEQUENCE:3
DTSTAMP:20260424T201029Z
URL:https://members.greatbend.org/events/details/thirteenth-annual-barton-foundation-sporting-clay-shoot-fundraiser-11757
END:VEVENT

END:VCALENDAR
