BEGIN:VCALENDAR
VERSION:2.0
PRODID:-//ChamberMaster//Event Calendar 2.0//EN
METHOD:PUBLISH
X-PUBLISHED-TTL:P3D
REFRESH-INTERVAL:P3D
CALSCALE:GREGORIAN
BEGIN:VEVENT
DTSTART:20241003T220000Z
DTEND:20241004T020000Z
X-MICROSOFT-CDO-ALLDAYEVENT:FALSE
SUMMARY:To The Stars: Kansas Business Awards
DESCRIPTION:The Kansas Department of Commerce 2024 To The Stars: Kansas Business Awards nominations took place over the summer with over 300 submissions received from across the state over nine award categories.\n\n\n\nWe will be celebrating award winners at our 2024 To The Stars: Kansas Business Awards with a supercharged\, statewide banquet that will recognize Regional & Statewide Award winners\, Exporter of the Year and the prestigious Governor's Award of Excellence winner.\n\n\n\nThis will be a time for us to celebrate all the accomplishments our great Kansas businesses do for our state each and every day. It is an opportunity to let businesses know how much we value their efforts and success.
X-ALT-DESC;FMTTYPE=text/html:The Kansas Department of Commerce 2024 To The Stars: Kansas Business Awards nominations took place over the summer with over 300 submissions received from across the state over nine award categories.<br />\n<br />\nWe will be celebrating award winners at our 2024 To The Stars: Kansas Business Awards with a supercharged\, statewide banquet that will recognize Regional &amp\; Statewide Award winners\, Exporter of the Year and the prestigious Governor&rsquo\;s Award of Excellence winner.<br />\n<br />\nThis will be a time for us to celebrate all the accomplishments our great Kansas businesses do for our state each and every day. It is an opportunity to let businesses know how much we value their efforts and success.<br />\n
LOCATION:3111 10th St. Great Bend\, KS 67530
UID:e.2303.14017
SEQUENCE:3
DTSTAMP:20260424T113622Z
URL:https://members.greatbend.org/events/details/to-the-stars-kansas-business-awards-14017
END:VEVENT

END:VCALENDAR
